Package: scone Version: 1.34.0 Command: rm -rf scone.buildbin-libdir && mkdir scone.buildbin-libdir && /Users/biocbuild/BBS/utils/build-universal.sh scone_1.34.0.tar.gz /Library/Frameworks/R.framework/Resources/bin/R scone.buildbin-libdir StartedAt: 2025-11-01 01:56:40 -0400 (Sat, 01 Nov 2025) EndedAt: 2025-11-01 01:57:56 -0400 (Sat, 01 Nov 2025) EllapsedTime: 76.3 seconds RetCode: 0 Status: OK PackageFile: scone_1.34.0.tgz PackageFileSize: 2.046 MiB