Package: scone Version: 1.34.0 Command: rm -rf scone.buildbin-libdir && mkdir scone.buildbin-libdir && /Users/biocbuild/BBS/utils/build-universal.sh scone_1.34.0.tar.gz /Library/Frameworks/R.framework/Resources/bin/R scone.buildbin-libdir StartedAt: 2025-11-18 16:22:13 -0500 (Tue, 18 Nov 2025) EndedAt: 2025-11-18 16:22:41 -0500 (Tue, 18 Nov 2025) EllapsedTime: 27.3 seconds RetCode: 0 Status: OK PackageFile: scone_1.34.0.tgz PackageFileSize: 2.054 MiB