Package: scmeth Version: 1.29.1 Command: /home/biocbuild/R/R/bin/R CMD INSTALL scmeth StartedAt: 2025-10-16 22:02:16 -0000 (Thu, 16 Oct 2025) EndedAt: 2025-10-16 22:03:14 -0000 (Thu, 16 Oct 2025) EllapsedTime: 58.4 seconds RetCode: 0 Status: OK