Package: scmeth Version: 1.29.1 Command: /home/biocbuild/R/R/bin/R CMD build --keep-empty-dirs --no-resave-data scmeth StartedAt: 2025-10-17 04:24:27 -0000 (Fri, 17 Oct 2025) EndedAt: 2025-10-17 04:25:46 -0000 (Fri, 17 Oct 2025) EllapsedTime: 79.0 seconds RetCode: 1 Status: ERROR PackageFile: None PackageFileSize: NA