Package: scmeth Version: 1.29.1 Command: /home/biocbuild/bbs-3.22-bioc/R/bin/R CMD check --install=check:scmeth.install-out.txt --library=/home/biocbuild/bbs-3.22-bioc/R/site-library --timings scmeth_1.29.1.tar.gz StartedAt: 2025-10-20 04:30:49 -0400 (Mon, 20 Oct 2025) EndedAt: 2025-10-20 04:37:47 -0400 (Mon, 20 Oct 2025) EllapsedTime: 418.3 seconds RetCode: 0 Status: OK CheckDir: scmeth.Rcheck Warnings: 0