Package: scmeth Version: 1.29.1 Command: /home/biocbuild/bbs-3.22-bioc/R/bin/R CMD build --keep-empty-dirs --no-resave-data --md5 scmeth StartedAt: 2025-10-19 19:54:09 -0400 (Sun, 19 Oct 2025) EndedAt: 2025-10-19 19:55:34 -0400 (Sun, 19 Oct 2025) EllapsedTime: 85.1 seconds RetCode: 0 Status: OK PackageFile: scmeth_1.29.1.tar.gz PackageFileSize: 770.6 KiB