Package: scmeth Version: 1.29.1 Command: /Library/Frameworks/R.framework/Resources/bin/R CMD check --install=check:scmeth.install-out.txt --library=/Library/Frameworks/R.framework/Resources/library --no-vignettes --timings scmeth_1.29.1.tar.gz StartedAt: 2025-10-21 01:33:10 -0400 (Tue, 21 Oct 2025) EndedAt: 2025-10-21 01:41:05 -0400 (Tue, 21 Oct 2025) EllapsedTime: 474.9 seconds RetCode: 0 Status: OK CheckDir: scmeth.Rcheck Warnings: 0