Package: scmeth Version: 1.29.1 Command: /Library/Frameworks/R.framework/Resources/bin/R CMD build --keep-empty-dirs --no-resave-data scmeth StartedAt: 2025-10-20 19:19:33 -0400 (Mon, 20 Oct 2025) EndedAt: 2025-10-20 19:22:22 -0400 (Mon, 20 Oct 2025) EllapsedTime: 168.5 seconds RetCode: 0 Status: OK PackageFile: scmeth_1.29.1.tar.gz PackageFileSize: 776.7 KiB