Package: scmeth Version: 1.29.1 Command: /Library/Frameworks/R.framework/Resources/bin/R CMD check --install=check:scmeth.install-out.txt --library=/Library/Frameworks/R.framework/Resources/library --no-vignettes --timings scmeth_1.29.1.tar.gz StartedAt: 2025-10-20 21:55:22 -0400 (Mon, 20 Oct 2025) EndedAt: 2025-10-20 21:58:03 -0400 (Mon, 20 Oct 2025) EllapsedTime: 160.9 seconds RetCode: 0 Status: OK CheckDir: scmeth.Rcheck Warnings: 0