Package: scifer Version: 1.11.5 Command: /home/biocbuild/R/R/bin/R CMD INSTALL scifer StartedAt: 2025-10-16 22:15:11 -0000 (Thu, 16 Oct 2025) EndedAt: 2025-10-16 22:15:31 -0000 (Thu, 16 Oct 2025) EllapsedTime: 20.6 seconds RetCode: 0 Status: OK