Package: scifer Version: 1.11.5 Command: /home/biocbuild/R/R/bin/R CMD check --install=check:scifer.install-out.txt --library=/home/biocbuild/R/R/site-library --no-vignettes --timings scifer_1.11.5.tar.gz StartedAt: 2025-10-17 13:20:41 -0000 (Fri, 17 Oct 2025) EndedAt: 2025-10-17 13:31:17 -0000 (Fri, 17 Oct 2025) EllapsedTime: 635.9 seconds RetCode: 0 Status: OK CheckDir: scifer.Rcheck Warnings: 0