Package: scifer Version: 1.11.5 Command: F:\biocbuild\bbs-3.22-bioc\R\bin\R.exe CMD check --no-multiarch --install=check:scifer.install-out.txt --library=F:\biocbuild\bbs-3.22-bioc\R\library --no-vignettes --timings scifer_1.11.5.tar.gz StartedAt: 2025-08-15 07:35:24 -0400 (Fri, 15 Aug 2025) EndedAt: 2025-08-15 07:44:01 -0400 (Fri, 15 Aug 2025) EllapsedTime: 517.1 seconds RetCode: 0 Status: OK CheckDir: scifer.Rcheck Warnings: 0