Package: scider Version: 1.7.3 Command: /home/biocbuild/R/R/bin/R CMD INSTALL scider StartedAt: 2025-10-20 20:33:32 -0000 (Mon, 20 Oct 2025) EndedAt: 2025-10-20 20:34:19 -0000 (Mon, 20 Oct 2025) EllapsedTime: 46.6 seconds RetCode: 0 Status: OK