Package: scider Version: 1.7.3 Command: /home/biocbuild/bbs-3.22-bioc/R/bin/R CMD INSTALL scider StartedAt: 2025-10-20 15:19:01 -0400 (Mon, 20 Oct 2025) EndedAt: 2025-10-20 15:19:34 -0400 (Mon, 20 Oct 2025) EllapsedTime: 33.5 seconds RetCode: 0 Status: OK