Package: scider Version: 1.7.3 Command: /Library/Frameworks/R.framework/Resources/bin/R CMD INSTALL scider StartedAt: 2025-10-19 15:12:39 -0400 (Sun, 19 Oct 2025) EndedAt: 2025-10-19 15:12:53 -0400 (Sun, 19 Oct 2025) EllapsedTime: 13.5 seconds RetCode: 0 Status: OK