Package: scider Version: 1.7.3 Command: rm -rf scider.buildbin-libdir && mkdir scider.buildbin-libdir && /Users/biocbuild/BBS/utils/build-universal.sh scider_1.7.3.tar.gz /Library/Frameworks/R.framework/Resources/bin/R scider.buildbin-libdir StartedAt: 2025-10-19 23:15:11 -0400 (Sun, 19 Oct 2025) EndedAt: 2025-10-19 23:15:27 -0400 (Sun, 19 Oct 2025) EllapsedTime: 15.3 seconds RetCode: 0 Status: OK PackageFile: scider_1.7.3.tgz PackageFileSize: 3.467 MiB