Package: schex Version: 1.24.0 Command: /Library/Frameworks/R.framework/Resources/bin/R CMD check --install=check:schex.install-out.txt --library=/Library/Frameworks/R.framework/Resources/library --no-vignettes --timings schex_1.24.0.tar.gz StartedAt: 2025-11-04 00:04:13 -0500 (Tue, 04 Nov 2025) EndedAt: 2025-11-04 00:11:11 -0500 (Tue, 04 Nov 2025) EllapsedTime: 418.4 seconds RetCode: 0 Status: OK CheckDir: schex.Rcheck Warnings: 0