Package: schex Version: 1.24.0 Command: rm -rf schex.buildbin-libdir && mkdir schex.buildbin-libdir && /Users/biocbuild/BBS/utils/build-universal.sh schex_1.24.0.tar.gz /Library/Frameworks/R.framework/Resources/bin/R schex.buildbin-libdir StartedAt: 2025-11-04 02:02:40 -0500 (Tue, 04 Nov 2025) EndedAt: 2025-11-04 02:03:21 -0500 (Tue, 04 Nov 2025) EllapsedTime: 40.4 seconds RetCode: 0 Status: OK PackageFile: schex_1.24.0.tgz PackageFileSize: 2.39 MiB