Package: scds Version: 1.25.1 Command: /home/biocbuild/R/R/bin/R CMD INSTALL scds StartedAt: 2025-10-16 21:31:37 -0000 (Thu, 16 Oct 2025) EndedAt: 2025-10-16 21:32:09 -0000 (Thu, 16 Oct 2025) EllapsedTime: 32.4 seconds RetCode: 0 Status: OK