Package: scds Version: 1.25.1 Command: /home/biocbuild/R/R/bin/R CMD build --keep-empty-dirs --no-resave-data scds StartedAt: 2025-10-17 04:20:37 -0000 (Fri, 17 Oct 2025) EndedAt: 2025-10-17 04:22:05 -0000 (Fri, 17 Oct 2025) EllapsedTime: 88.1 seconds RetCode: 0 Status: OK PackageFile: scds_1.25.1.tar.gz PackageFileSize: 1.12 MiB