Package: scds Version: 1.25.0 Command: F:\biocbuild\bbs-3.22-bioc\R\bin\R.exe CMD INSTALL scds StartedAt: 2025-08-14 16:05:23 -0400 (Thu, 14 Aug 2025) EndedAt: 2025-08-14 16:05:52 -0400 (Thu, 14 Aug 2025) EllapsedTime: 29.5 seconds RetCode: 0 Status: OK