Package: scds Version: 1.25.1 Command: rm -rf scds.buildbin-libdir && mkdir scds.buildbin-libdir && /Users/biocbuild/BBS/utils/build-universal.sh scds_1.25.1.tar.gz /Library/Frameworks/R.framework/Resources/bin/R scds.buildbin-libdir StartedAt: 2025-10-20 03:31:56 -0400 (Mon, 20 Oct 2025) EndedAt: 2025-10-20 03:32:34 -0400 (Mon, 20 Oct 2025) EllapsedTime: 38.1 seconds RetCode: 0 Status: OK PackageFile: scds_1.25.1.tgz PackageFileSize: 1.42 MiB