Package: scater Version: 1.37.0 Command: F:\biocbuild\bbs-3.22-bioc\R\bin\R.exe CMD INSTALL scater StartedAt: 2025-08-14 16:57:13 -0400 (Thu, 14 Aug 2025) EndedAt: 2025-08-14 16:58:04 -0400 (Thu, 14 Aug 2025) EllapsedTime: 51.2 seconds RetCode: 0 Status: OK