Package: scater Version: 1.37.0 Command: F:\biocbuild\bbs-3.22-bioc\R\bin\R.exe CMD check --no-multiarch --install=check:scater.install-out.txt --library=F:\biocbuild\bbs-3.22-bioc\R\library --no-vignettes --timings scater_1.37.0.tar.gz StartedAt: 2025-08-15 07:28:14 -0400 (Fri, 15 Aug 2025) EndedAt: 2025-08-15 07:37:17 -0400 (Fri, 15 Aug 2025) EllapsedTime: 543.0 seconds RetCode: 0 Status: OK CheckDir: scater.Rcheck Warnings: 0