Package: scater Version: 1.38.0 Command: /Library/Frameworks/R.framework/Resources/bin/R CMD INSTALL scater StartedAt: 2025-10-29 22:27:58 -0400 (Wed, 29 Oct 2025) EndedAt: 2025-10-29 22:28:39 -0400 (Wed, 29 Oct 2025) EllapsedTime: 40.7 seconds RetCode: 0 Status: OK