Package: scater Version: 1.37.0 Command: /Library/Frameworks/R.framework/Resources/bin/R CMD check --install=check:scater.install-out.txt --library=/Library/Frameworks/R.framework/Resources/library --no-vignettes --timings scater_1.37.0.tar.gz StartedAt: 2025-10-28 21:50:34 -0400 (Tue, 28 Oct 2025) EndedAt: 2025-10-28 21:53:46 -0400 (Tue, 28 Oct 2025) EllapsedTime: 192.3 seconds RetCode: 1 Status: ERROR CheckDir: scater.Rcheck Warnings: NA