Package: scanMiRApp Version: 1.16.0 Command: /home/biocbuild/R/R/bin/R CMD INSTALL scanMiRApp StartedAt: 2025-11-17 22:03:11 -0000 (Mon, 17 Nov 2025) EndedAt: 2025-11-17 22:04:14 -0000 (Mon, 17 Nov 2025) EllapsedTime: 63.3 seconds RetCode: 0 Status: OK