Package: scanMiRApp Version: 1.16.0 Command: /home/biocbuild/R/R/bin/R CMD check --install=check:scanMiRApp.install-out.txt --library=/home/biocbuild/R/R/site-library --no-vignettes --timings scanMiRApp_1.16.0.tar.gz StartedAt: 2025-11-18 14:38:06 -0000 (Tue, 18 Nov 2025) EndedAt: 2025-11-18 14:47:12 -0000 (Tue, 18 Nov 2025) EllapsedTime: 545.9 seconds RetCode: 0 Status: OK CheckDir: scanMiRApp.Rcheck Warnings: 0