Package: scanMiRApp Version: 1.16.0 Command: /home/biocbuild/R/R/bin/R CMD build --keep-empty-dirs --no-resave-data scanMiRApp StartedAt: 2025-11-18 04:45:43 -0000 (Tue, 18 Nov 2025) EndedAt: 2025-11-18 04:47:40 -0000 (Tue, 18 Nov 2025) EllapsedTime: 117.2 seconds RetCode: 0 Status: OK PackageFile: scanMiRApp_1.16.0.tar.gz PackageFileSize: 931.2 KiB