Package: scanMiRApp Version: 1.16.0 Command: /Library/Frameworks/R.framework/Resources/bin/R CMD check --install=check:scanMiRApp.install-out.txt --library=/Library/Frameworks/R.framework/Resources/library --no-vignettes --timings scanMiRApp_1.16.0.tar.gz StartedAt: 2025-11-10 22:08:55 -0500 (Mon, 10 Nov 2025) EndedAt: 2025-11-10 22:11:03 -0500 (Mon, 10 Nov 2025) EllapsedTime: 127.6 seconds RetCode: 0 Status: OK CheckDir: scanMiRApp.Rcheck Warnings: 0