Package: scanMiR Version: 1.15.1 Command: F:\biocbuild\bbs-3.22-bioc\R\bin\R.exe CMD check --no-multiarch --install=check:scanMiR.install-out.txt --library=F:\biocbuild\bbs-3.22-bioc\R\library --no-vignettes --timings scanMiR_1.15.1.tar.gz StartedAt: 2025-08-15 07:27:06 -0400 (Fri, 15 Aug 2025) EndedAt: 2025-08-15 07:29:31 -0400 (Fri, 15 Aug 2025) EllapsedTime: 144.7 seconds RetCode: 0 Status: OK CheckDir: scanMiR.Rcheck Warnings: 0