Package: scTreeViz Version: 1.15.0 Command: /home/biocbuild/bbs-3.22-bioc/R/bin/R CMD INSTALL scTreeViz StartedAt: 2025-10-19 15:57:42 -0400 (Sun, 19 Oct 2025) EndedAt: 2025-10-19 15:58:50 -0400 (Sun, 19 Oct 2025) EllapsedTime: 68.0 seconds RetCode: 0 Status: OK