Package: scTreeViz Version: 1.15.0 Command: /home/biocbuild/bbs-3.22-bioc/R/bin/R CMD check --install=check:scTreeViz.install-out.txt --library=/home/biocbuild/bbs-3.22-bioc/R/site-library --timings scTreeViz_1.15.0.tar.gz StartedAt: 2025-10-20 04:39:25 -0400 (Mon, 20 Oct 2025) EndedAt: 2025-10-20 04:48:45 -0400 (Mon, 20 Oct 2025) EllapsedTime: 560.5 seconds RetCode: 0 Status: OK CheckDir: scTreeViz.Rcheck Warnings: 0