Package: scTGIF Version: 1.23.0 Command: F:\biocbuild\bbs-3.22-bioc\R\bin\R.exe CMD check --no-multiarch --install=check:scTGIF.install-out.txt --library=F:\biocbuild\bbs-3.22-bioc\R\library --no-vignettes --timings scTGIF_1.23.0.tar.gz StartedAt: 2025-08-15 07:43:00 -0400 (Fri, 15 Aug 2025) EndedAt: 2025-08-15 07:48:12 -0400 (Fri, 15 Aug 2025) EllapsedTime: 311.8 seconds RetCode: 0 Status: OK CheckDir: scTGIF.Rcheck Warnings: 0