Package: scTGIF Version: 1.23.0 Command: rm -rf scTGIF.buildbin-libdir && mkdir scTGIF.buildbin-libdir && F:\biocbuild\bbs-3.22-bioc\R\bin\R.exe CMD INSTALL --build --library=scTGIF.buildbin-libdir scTGIF_1.23.0.tar.gz StartedAt: 2025-08-15 11:17:02 -0400 (Fri, 15 Aug 2025) EndedAt: 2025-08-15 11:17:59 -0400 (Fri, 15 Aug 2025) EllapsedTime: 56.6 seconds RetCode: 0 Status: OK PackageFile: scTGIF_1.23.0.zip PackageFileSize: 1.991 MiB