Package: scTGIF Version: 1.23.0 Command: /home/biocbuild/bbs-3.22-bioc/R/bin/R CMD build --keep-empty-dirs --no-resave-data --md5 scTGIF StartedAt: 2025-10-19 19:58:42 -0400 (Sun, 19 Oct 2025) EndedAt: 2025-10-19 20:00:25 -0400 (Sun, 19 Oct 2025) EllapsedTime: 103.1 seconds RetCode: 0 Status: OK PackageFile: scTGIF_1.23.0.tar.gz PackageFileSize: 2.393 MiB