Package: scTGIF Version: 1.23.0 Command: /Library/Frameworks/R.framework/Resources/bin/R CMD INSTALL scTGIF StartedAt: 2025-10-19 15:31:01 -0400 (Sun, 19 Oct 2025) EndedAt: 2025-10-19 15:31:49 -0400 (Sun, 19 Oct 2025) EllapsedTime: 48.8 seconds RetCode: 0 Status: OK