Package: scTGIF Version: 1.23.0 Command: /Library/Frameworks/R.framework/Resources/bin/R CMD check --install=check:scTGIF.install-out.txt --library=/Library/Frameworks/R.framework/Resources/library --no-vignettes --timings scTGIF_1.23.0.tar.gz StartedAt: 2025-10-20 01:35:58 -0400 (Mon, 20 Oct 2025) EndedAt: 2025-10-20 01:41:03 -0400 (Mon, 20 Oct 2025) EllapsedTime: 304.9 seconds RetCode: 0 Status: OK CheckDir: scTGIF.Rcheck Warnings: 0