Package: scQTLtools Version: 1.1.7 Command: F:\biocbuild\bbs-3.22-bioc\R\bin\R.exe CMD check --no-multiarch --install=check:scQTLtools.install-out.txt --library=F:\biocbuild\bbs-3.22-bioc\R\library --no-vignettes --timings scQTLtools_1.1.7.tar.gz StartedAt: 2025-08-15 07:39:31 -0400 (Fri, 15 Aug 2025) EndedAt: 2025-08-15 07:50:19 -0400 (Fri, 15 Aug 2025) EllapsedTime: 648.8 seconds RetCode: 0 Status: OK CheckDir: scQTLtools.Rcheck Warnings: 0