Package: scQTLtools Version: 1.1.7 Command: rm -rf scQTLtools.buildbin-libdir && mkdir scQTLtools.buildbin-libdir && F:\biocbuild\bbs-3.22-bioc\R\bin\R.exe CMD INSTALL --build --library=scQTLtools.buildbin-libdir scQTLtools_1.1.7.tar.gz StartedAt: 2025-08-15 11:16:23 -0400 (Fri, 15 Aug 2025) EndedAt: 2025-08-15 11:17:52 -0400 (Fri, 15 Aug 2025) EllapsedTime: 88.2 seconds RetCode: 0 Status: OK PackageFile: scQTLtools_1.1.7.zip PackageFileSize: 2.891 MiB