Package: scMET Version: 1.11.0 Command: /home/biocbuild/R/R/bin/R CMD INSTALL scMET StartedAt: 2025-10-23 20:57:32 -0000 (Thu, 23 Oct 2025) EndedAt: 2025-10-23 21:00:17 -0000 (Thu, 23 Oct 2025) EllapsedTime: 165.1 seconds RetCode: 0 Status: OK