Package: scMET Version: 1.11.0 Command: /home/biocbuild/bbs-3.22-bioc/R/bin/R CMD INSTALL scMET StartedAt: 2025-10-20 15:32:22 -0400 (Mon, 20 Oct 2025) EndedAt: 2025-10-20 15:34:20 -0400 (Mon, 20 Oct 2025) EllapsedTime: 118.5 seconds RetCode: 0 Status: OK