Package: scMET Version: 1.11.0 Command: /Library/Frameworks/R.framework/Resources/bin/R CMD build --keep-empty-dirs --no-resave-data scMET StartedAt: 2025-10-19 19:18:01 -0400 (Sun, 19 Oct 2025) EndedAt: 2025-10-19 19:24:06 -0400 (Sun, 19 Oct 2025) EllapsedTime: 364.9 seconds RetCode: 0 Status: OK PackageFile: scMET_1.11.0.tar.gz PackageFileSize: 3.281 MiB