Package: scMET Version: 1.11.0 Command: /Library/Frameworks/R.framework/Resources/bin/R CMD build --keep-empty-dirs --no-resave-data scMET StartedAt: 2025-10-19 17:37:10 -0400 (Sun, 19 Oct 2025) EndedAt: 2025-10-19 17:38:18 -0400 (Sun, 19 Oct 2025) EllapsedTime: 67.8 seconds RetCode: 0 Status: OK PackageFile: scMET_1.11.0.tar.gz PackageFileSize: 3.282 MiB