Package: scHiCcompare Version: 1.2.0 Command: /Library/Frameworks/R.framework/Resources/bin/R CMD INSTALL scHiCcompare StartedAt: 2025-11-10 15:17:58 -0500 (Mon, 10 Nov 2025) EndedAt: 2025-11-10 15:18:10 -0500 (Mon, 10 Nov 2025) EllapsedTime: 11.6 seconds RetCode: 0 Status: OK