Package: scHiCcompare Version: 1.2.0 Command: /Library/Frameworks/R.framework/Resources/bin/R CMD build --keep-empty-dirs --no-resave-data scHiCcompare StartedAt: 2025-11-10 17:39:30 -0500 (Mon, 10 Nov 2025) EndedAt: 2025-11-10 17:39:55 -0500 (Mon, 10 Nov 2025) EllapsedTime: 25.3 seconds RetCode: 0 Status: OK PackageFile: scHiCcompare_1.2.0.tar.gz PackageFileSize: 1.279 MiB