Package: scDotPlot Version: 1.3.1 Command: F:\biocbuild\bbs-3.22-bioc\R\bin\R.exe CMD check --no-multiarch --install=check:scDotPlot.install-out.txt --library=F:\biocbuild\bbs-3.22-bioc\R\library --no-vignettes --timings scDotPlot_1.3.1.tar.gz StartedAt: 2025-08-15 07:31:53 -0400 (Fri, 15 Aug 2025) EndedAt: 2025-08-15 07:37:30 -0400 (Fri, 15 Aug 2025) EllapsedTime: 336.8 seconds RetCode: 0 Status: OK CheckDir: scDotPlot.Rcheck Warnings: 0