Package: scDotPlot Version: 1.3.1 Command: /Library/Frameworks/R.framework/Resources/bin/R CMD INSTALL scDotPlot StartedAt: 2025-10-19 15:50:27 -0400 (Sun, 19 Oct 2025) EndedAt: 2025-10-19 15:51:24 -0400 (Sun, 19 Oct 2025) EllapsedTime: 57.8 seconds RetCode: 0 Status: OK