Package: scDotPlot Version: 1.3.1 Command: /Library/Frameworks/R.framework/Resources/bin/R CMD check --install=check:scDotPlot.install-out.txt --library=/Library/Frameworks/R.framework/Resources/library --no-vignettes --timings scDotPlot_1.3.1.tar.gz StartedAt: 2025-10-20 01:26:47 -0400 (Mon, 20 Oct 2025) EndedAt: 2025-10-20 01:32:24 -0400 (Mon, 20 Oct 2025) EllapsedTime: 336.4 seconds RetCode: 0 Status: OK CheckDir: scDotPlot.Rcheck Warnings: 0