Package: scDotPlot Version: 1.3.1 Command: /Library/Frameworks/R.framework/Resources/bin/R CMD build --keep-empty-dirs --no-resave-data scDotPlot StartedAt: 2025-10-19 19:16:08 -0400 (Sun, 19 Oct 2025) EndedAt: 2025-10-19 19:18:59 -0400 (Sun, 19 Oct 2025) EllapsedTime: 171.5 seconds RetCode: 0 Status: OK PackageFile: scDotPlot_1.3.1.tar.gz PackageFileSize: 1.971 MiB